BEGIN:VCALENDAR
VERSION:2.0
PRODID:-//Center for ADHD+ - ECPv6.15.20//NONSGML v1.0//EN
CALSCALE:GREGORIAN
METHOD:PUBLISH
X-ORIGINAL-URL:https://adhdcenter.dk
X-WR-CALDESC:Begivenheder for Center for ADHD+
REFRESH-INTERVAL;VALUE=DURATION:PT1H
X-Robots-Tag:noindex
X-PUBLISHED-TTL:PT1H
BEGIN:VTIMEZONE
TZID:Europe/Copenhagen
BEGIN:DAYLIGHT
TZOFFSETFROM:+0100
TZOFFSETTO:+0200
TZNAME:CEST
DTSTART:20250330T010000
END:DAYLIGHT
BEGIN:STANDARD
TZOFFSETFROM:+0200
TZOFFSETTO:+0100
TZNAME:CET
DTSTART:20251026T010000
END:STANDARD
BEGIN:DAYLIGHT
TZOFFSETFROM:+0100
TZOFFSETTO:+0200
TZNAME:CEST
DTSTART:20260329T010000
END:DAYLIGHT
BEGIN:STANDARD
TZOFFSETFROM:+0200
TZOFFSETTO:+0100
TZNAME:CET
DTSTART:20261025T010000
END:STANDARD
BEGIN:DAYLIGHT
TZOFFSETFROM:+0100
TZOFFSETTO:+0200
TZNAME:CEST
DTSTART:20270328T010000
END:DAYLIGHT
BEGIN:STANDARD
TZOFFSETFROM:+0200
TZOFFSETTO:+0100
TZNAME:CET
DTSTART:20271031T010000
END:STANDARD
END:VTIMEZONE
BEGIN:VEVENT
DTSTART;TZID=Europe/Copenhagen:20261112T090000
DTEND;TZID=Europe/Copenhagen:20261112T160000
DTSTAMP:20260421T163635
CREATED:20251215T085818Z
LAST-MODIFIED:20260320T103045Z
UID:1257027-1794474000-1794499200@adhdcenter.dk
SUMMARY:iiP Masterclass 1 & 2
DESCRIPTION:Bliv certificeret iiP vejleder ved at deltage i to obligatoriske masterclasses\nMasterclass 1: Hjemmeaktiviteter og videoklip \nDenne masterclass er én af to obligatoriske for at opnå certificering som vejleder i invest in play® \nVi vil fokusere på vejlederegenskaber ved gennemgang af hjemmeaktiviteter og facilitering af dialogen omkring filmklip. Vi tager afsæt i vejledernes egne spørgsmål og erfaringer og kommer omkring temaerne via erfaringsudveksling\, refleksion over rationalet for programelementerne\, oplæg omkring vejlederegenskaber samt case-baserede øvelser. \nMasterclass 2: Øvelser \nDenne masterclass er én af to obligatoriske for at opnå certificering som vejleder i invest in play ®. \nVi vil fokusere på vejlederegenskaber omkring øvelser og rollespil. Vi tager afsæt i vejledernes egne spørgsmål og erfaringer og kommer omkring temaerne via erfaringsudveksling\, refleksion over rationalet for programelementet\, oplæg omkring hjælpsomme vejlederegenskaber når vi laver øvelser med forældrene samt case-baserede øvelser. \nMasterclass 1 og 2 afholdes af praktiske hensyn samme dag. Ud over de to masterclasses er det en stærk anbefaling\, at man har gennemført mindst ét gruppeforløb. \nSamlet pris for begge masterclasses er kr. 3.700 + moms. \nObs:Uddannelsdagen oprettes ved minimum 10 tilmeldte deltagere.Tilmelding er bindende \n			\n				Tilmelding
URL:https://adhdcenter.dk/event/iip-masterclass-1-2-2026/
LOCATION:Marselisborgcentret\, Evald Krogs Gade 9\, 1. sal\, Aarhus\, 8000
CATEGORIES:Uddannelse
ATTACH;FMTTYPE=image/jpeg:https://adhdcenter.dk/wp-content/uploads/2025/01/uddannelse-center-for-adhd-2025.jpg
ORGANIZER;CN="Center for ADHD+":MAILTO:info@adhdcenter.dk
END:VEVENT
END:VCALENDAR