BEGIN:VCALENDAR
VERSION:2.0
PRODID:-//Center for ADHD+ - ECPv6.15.20//NONSGML v1.0//EN
CALSCALE:GREGORIAN
METHOD:PUBLISH
X-WR-CALNAME:Center for ADHD+
X-ORIGINAL-URL:https://adhdcenter.dk
X-WR-CALDESC:Begivenheder for Center for ADHD+
REFRESH-INTERVAL;VALUE=DURATION:PT1H
X-Robots-Tag:noindex
X-PUBLISHED-TTL:PT1H
BEGIN:VTIMEZONE
TZID:Europe/Copenhagen
BEGIN:DAYLIGHT
TZOFFSETFROM:+0100
TZOFFSETTO:+0200
TZNAME:CEST
DTSTART:20250330T010000
END:DAYLIGHT
BEGIN:STANDARD
TZOFFSETFROM:+0200
TZOFFSETTO:+0100
TZNAME:CET
DTSTART:20251026T010000
END:STANDARD
BEGIN:DAYLIGHT
TZOFFSETFROM:+0100
TZOFFSETTO:+0200
TZNAME:CEST
DTSTART:20260329T010000
END:DAYLIGHT
BEGIN:STANDARD
TZOFFSETFROM:+0200
TZOFFSETTO:+0100
TZNAME:CET
DTSTART:20261025T010000
END:STANDARD
BEGIN:DAYLIGHT
TZOFFSETFROM:+0100
TZOFFSETTO:+0200
TZNAME:CEST
DTSTART:20270328T010000
END:DAYLIGHT
BEGIN:STANDARD
TZOFFSETFROM:+0200
TZOFFSETTO:+0100
TZNAME:CET
DTSTART:20271031T010000
END:STANDARD
END:VTIMEZONE
BEGIN:VEVENT
DTSTART;TZID=Europe/Copenhagen:20261022T090000
DTEND;TZID=Europe/Copenhagen:20261022T160000
DTSTAMP:20260421T134549
CREATED:20260420T145932Z
LAST-MODIFIED:20260421T114329Z
UID:1257769-1792659600-1792684800@adhdcenter.dk
SUMMARY:iiP temadag: Autisme modul
DESCRIPTION:iiP temadag: Autisme modul\nBliv klar til at tilpasse invest in play® gruppeforløbet til familier med børn med autisme. Dette overbygningsmodul kræver\, at du allerede har gennemført grunduddannelsen i invest in play® forældreprogrammet. \nPå dagen vil du blive introduceret til autisme og autisme tilpasninger af strategierne i invest in play® programmet og have lejlighed til at øve tilpasningerne.(Få plader tilbage.) \nPrisen for dagen inkluderer:\n\nPersonlig oprettelse af adgang til autisme materialer på invest in play hjemmesiden\n\nPsykoedukation\, filmklip og materialer til print til forældre\n\n\nUndervisning\nForplejning på dagen\n\nPris: 4.000 + moms \nVed tilmelding accepterer du\, at dine kontaktoplysninger deles af Center for ADHD+ med invest in play Ltd. i England i forhold til opdatering og administration af abonnement med to-trins-faktor login til undervisningsmaterialerne. \nObs: Denne dag oprettes ved minimum 10 tilmeldte deltagere \nTilmelding er bindende. \n			\n				Tilmelding
URL:https://adhdcenter.dk/event/iip-autisme-modul/
LOCATION:Hotel GUESTapart\, Tueager 5A\, Aarhus N\, Midtjylland\, 8200\, Denmark
CATEGORIES:Uddannelse
ATTACH;FMTTYPE=image/jpeg:https://adhdcenter.dk/wp-content/uploads/2025/01/uddannelse-center-for-adhd-2025.jpg
ORGANIZER;CN="Center for ADHD+":MAILTO:info@adhdcenter.dk
END:VEVENT
END:VCALENDAR